BEGIN:VCALENDAR
VERSION:2.0
PRODID:Imitheme.com
BEGIN:VEVENT
UID:20260424T001158-882616895
DTSTAMP:20260424T001158
DTSTART:20260104T001100
DTEND:20260104T001100
SUMMARY:Women's fellowship
LOCATION:
DESCRIPTION: Christmas dinner
END:VEVENT
END:VCALENDAR
