BEGIN:VCALENDAR
VERSION:2.0
PRODID:Imitheme.com
BEGIN:VEVENT
UID:20260424T001158-1876952687
DTSTAMP:20260424T001158
DTSTART:20260104T001100
DTEND:20260104T001100
SUMMARY:Answers in Genesis
LOCATION:
DESCRIPTION: <h2 class="eds-text-hs eds-text-weight--light" data-reactid="103">Come and Get Equipped with "Bryan Osborne" from Answers in Genesis</h2>

<div id="eventbrite-widget-container-68079907837"></div>

<script src="https://www.eventbrite.com.au/static/widgets/eb_widgets.js"></script>

<script type="text/javascript">
    var exampleCallback = function() {
        console.log('Order complete!');
    };

    window.EBWidgets.createWidget({
        // Required
        widgetType: 'checkout',
        eventId: '68079907837',
        iframeContainerId: 'eventbrite-widget-container-68079907837',

        // Optional
        iframeContainerHeight: 425,  // Widget height in pixels. Defaults to a minimum of 425px if not provided
        onOrderComplete: exampleCallback  // Method called when an order has successfully completed
    });
</script>
END:VEVENT
END:VCALENDAR
