BEGIN:VCALENDAR
VERSION:2.0
PRODID:Imitheme.com 
BEGIN:VEVENT
UID:20260423T235742393543571
DTSTAMP;TZID=UTC:20260423T235742
DTSTART;TZID=UTC:20260104T235700
DTEND;TZID=UTC:20260104T235700
SUMMARY:Special Sunday Service - Ps. Gnanaselvin
LOCATION:
DESCRIPTION:<p class=\"\" data-start=\"139\" data-end=\"288\">This Sunday\, we are honored to welcome <strong data-start=\"180\" data-end=\"206\">our special guest preacher Ps. Gnanaselvin</strong> from <a href=\"https\://jesusisthelight.org/\">Jesus is the Light Ministries</a> at Nationlight Chruch\, and we would love for you to join us for this powerful service!</p> Our guest preacher\, Ps. Gnanaselvin\, will be sharing an inspiring message that you won\'t want to miss. It’s going to be a time of deep reflection\, encouragement\, and spiritual renewal. Come as you are\, bring your family and friends\, and experience this special service with us. We believe this will be a time that will bless and strengthen you in your faith. We can’t wait to see you there!
END:VEVENT
END:VCALENDAR
