BEGIN:VCALENDAR
VERSION:2.0
PRODID:Imitheme.com 
BEGIN:VEVENT
UID:20260424T025816283160469
DTSTAMP;TZID=UTC:20260424T025816
DTSTART;TZID=UTC:20291230T025800
DTEND;TZID=UTC:20291230T025800
SUMMARY:English Worship Service
LOCATION:
DESCRIPTION:<h4 data-start=\"81\" data-end=\"115\"><strong data-start=\"81\" data-end=\"115\">Welcome to Our English Service!</strong></h4> <p class=\"\" data-start=\"117\" data-end=\"384\">We are so glad you\'re here! At Nationlight Church\, our services are a place where you can experience the presence of God through Praise and Worship\, inspiring sermons\, and meaningful community. Whether you’re new to faith\, new to the area\, or just looking for a place to connect\, you’re welcome here!</p> <h5 data-start=\"386\" data-end=\"404\"><strong data-start=\"386\" data-end=\"404\">English Service Times\:</strong></h5> <ul> <li data-start=\"408\" data-end=\"422\">Sunday\: 4\:30 pm</li> </ul> <h5 data-start=\"463\" data-end=\"482\"><strong data-start=\"463\" data-end=\"482\">What to Expect\:</strong></h5> <ul> <li data-start=\"486\" data-end=\"518\">A warm and welcoming environment</li> <li data-start=\"521\" data-end=\"547\">Powerful music and worship</li> <li data-start=\"550\" data-end=\"585\">Encouraging teaching from the Bible</li> <li data-start=\"588\" data-end=\"624\">Opportunities to connect with others</li> </ul> <p class=\"\" data-start=\"626\" data-end=\"771\">We believe that everyone has a unique story\, and we’d love to be part of yours. Come as you are and join us in experiencing God’s love and grace!</p> <h4 data-start=\"773\" data-end=\"825\"><strong>Join us this Sunday – we can’t wait to meet you!</strong></h4> <p class=\"\" data-start=\"827\" data-end=\"926\">For more details\, please contact Ps. Kishanth Lawrence at 0422 382 026.</p> <p data-start=\"427\" data-end=\"501\">If you are traveling or unwell\, please join us via our online live streaming on <a href=\"https\://www.youtube.com/@nationlightchurch6206\">youtube</a></p>
END:VEVENT
END:VCALENDAR
